BEGIN:VCALENDAR
VERSION:2.0
PRODID:-//Ayuntamiento de Siero - ECPv6.15.20//NONSGML v1.0//EN
CALSCALE:GREGORIAN
METHOD:PUBLISH
X-WR-CALNAME:Ayuntamiento de Siero
X-ORIGINAL-URL:https://www.ayto-siero.es
X-WR-CALDESC:Eventos para Ayuntamiento de Siero
REFRESH-INTERVAL;VALUE=DURATION:PT1H
X-Robots-Tag:noindex
X-PUBLISHED-TTL:PT1H
BEGIN:VTIMEZONE
TZID:Europe/Madrid
BEGIN:DAYLIGHT
TZOFFSETFROM:+0100
TZOFFSETTO:+0200
TZNAME:CEST
DTSTART:20250330T010000
END:DAYLIGHT
BEGIN:STANDARD
TZOFFSETFROM:+0200
TZOFFSETTO:+0100
TZNAME:CET
DTSTART:20251026T010000
END:STANDARD
BEGIN:DAYLIGHT
TZOFFSETFROM:+0100
TZOFFSETTO:+0200
TZNAME:CEST
DTSTART:20260329T010000
END:DAYLIGHT
BEGIN:STANDARD
TZOFFSETFROM:+0200
TZOFFSETTO:+0100
TZNAME:CET
DTSTART:20261025T010000
END:STANDARD
BEGIN:DAYLIGHT
TZOFFSETFROM:+0100
TZOFFSETTO:+0200
TZNAME:CEST
DTSTART:20270328T010000
END:DAYLIGHT
BEGIN:STANDARD
TZOFFSETFROM:+0200
TZOFFSETTO:+0100
TZNAME:CET
DTSTART:20271031T010000
END:STANDARD
END:VTIMEZONE
BEGIN:VEVENT
DTSTART;TZID=Europe/Madrid:20260114T193000
DTEND;TZID=Europe/Madrid:20260114T212000
DTSTAMP:20260420T115256
CREATED:20251226T110135Z
LAST-MODIFIED:20251226T111901Z
UID:30533-1768419000-1768425600@www.ayto-siero.es
SUMMARY:Se proyecta en Lugones la cinta germano - noruega "Off the Mark"
DESCRIPTION:Enmarcada en la Muestra de Cine Social y Derechos Humanos (MUSOC)\, tendrá lugar el miércoles 14 de enero\, a las 19.30 horas\, en el Centro Polivalente Integrado de la localidad \nEntrada libre\, limitada al aforo de la sala \n\nWera Uschakowa2024\, 114 min\, Alemania\, Noruega \nEl gobierno noruego lleva varios años luchando por una transición ecológica. Mediante esta transformación de la economía y la sociedad hacia las energías renovables y un estilo de vida más respetuoso con el medio ambiente\, busca asegurar el suministro energético y combatir el cambio climático. Sin embargo\, los samis\, habitantes indígenas de Fennoscandia\, ven amenazadas su tierra y su cultura y se oponen a esta vía: la extracción de recursos en sus zonas como parte de la transición ecológica los está llevando al límite físico y psicológico\, poniéndolos en una situación que amenaza su propia existencia
URL:https://www.ayto-siero.es/eventos/se-proyecta-en-lugones-la-cinta-germano-noruega-off-the-mark/
LOCATION:Centro Polivalente Integrado de Lugones\, C/ Leopoldo Lugones\, 31\, Lugones\, Asturias\, 33420
CATEGORIES:Agenda de Cultura
ATTACH;FMTTYPE=image/jpeg:https://www.ayto-siero.es/wp-content/uploads/2025/12/4-y-6-MUSOC.jpg
ORGANIZER;CN="Fundaci%C3%B3n Municipal de Cultura de Siero":MAILTO:fmc@ayto-siero.es
END:VEVENT
END:VCALENDAR