BEGIN:VCALENDAR
VERSION:2.0
PRODID:-//Ayuntamiento de Siero - ECPv6.15.20//NONSGML v1.0//EN
CALSCALE:GREGORIAN
METHOD:PUBLISH
X-WR-CALNAME:Ayuntamiento de Siero
X-ORIGINAL-URL:https://www.ayto-siero.es
X-WR-CALDESC:Eventos para Ayuntamiento de Siero
REFRESH-INTERVAL;VALUE=DURATION:PT1H
X-Robots-Tag:noindex
X-PUBLISHED-TTL:PT1H
BEGIN:VTIMEZONE
TZID:Europe/Madrid
BEGIN:DAYLIGHT
TZOFFSETFROM:+0100
TZOFFSETTO:+0200
TZNAME:CEST
DTSTART:20250330T010000
END:DAYLIGHT
BEGIN:STANDARD
TZOFFSETFROM:+0200
TZOFFSETTO:+0100
TZNAME:CET
DTSTART:20251026T010000
END:STANDARD
BEGIN:DAYLIGHT
TZOFFSETFROM:+0100
TZOFFSETTO:+0200
TZNAME:CEST
DTSTART:20260329T010000
END:DAYLIGHT
BEGIN:STANDARD
TZOFFSETFROM:+0200
TZOFFSETTO:+0100
TZNAME:CET
DTSTART:20261025T010000
END:STANDARD
BEGIN:DAYLIGHT
TZOFFSETFROM:+0100
TZOFFSETTO:+0200
TZNAME:CEST
DTSTART:20270328T010000
END:DAYLIGHT
BEGIN:STANDARD
TZOFFSETFROM:+0200
TZOFFSETTO:+0100
TZNAME:CET
DTSTART:20271031T010000
END:STANDARD
END:VTIMEZONE
BEGIN:VEVENT
DTSTART;TZID=Europe/Madrid:20260127T200000
DTEND;TZID=Europe/Madrid:20260127T212000
DTSTAMP:20260420T133106
CREATED:20251226T112605Z
LAST-MODIFIED:20251226T112605Z
UID:30524-1769544000-1769548800@www.ayto-siero.es
SUMMARY:La Pola acoge la proyección de la cinta española "Negro limbo"
DESCRIPTION:Enmarcada en la Muestra de Cine Social y Derechos Humanos (MUSOC)\, tendrá lugar el martes 27 de enero\, a las 20.00 horas\, en el Teatro Auditorio de la localidad \nEntrada libre\, limitada al aforo de la sala \n\nLorenzo BenítezEspaña\, 2024\, 76’ \nLos secretos y la impunidad de la dictadura franquista en la antigua Guinea española continúan presentes en democracia.El franquismo consiguió ocultar sus crímenes y torturas contra el Movimiento Nacional de Liberación de Guinea Ecuatorial a finales de los años 50. Uno de sus líderes\, Acacio Mañe\, fue detenido y hecho desaparecer. Ahora su familia reclama justicia y reparación desde África. Solo nos ha llegado el relato idílico de los viejos colonos.
URL:https://www.ayto-siero.es/eventos/la-pola-acoge-la-proyeccion-de-la-cinta-espanola-negro-limbo/
LOCATION:Teatro Auditorio de La Pola Siero\, C/ Belarmino García Roza\, La Pola Siero\, 33510
CATEGORIES:Agenda de Auditorio,Agenda de Cultura
ATTACH;FMTTYPE=image/jpeg:https://www.ayto-siero.es/wp-content/uploads/2025/12/4-y-6-MUSOC.jpg
ORGANIZER;CN="Fundaci%C3%B3n Municipal de Cultura de Siero":MAILTO:fmc@ayto-siero.es
END:VEVENT
END:VCALENDAR