BEGIN:VCALENDAR
VERSION:2.0
PRODID:-//Ayuntamiento de Siero - ECPv6.15.20//NONSGML v1.0//EN
CALSCALE:GREGORIAN
METHOD:PUBLISH
X-WR-CALNAME:Ayuntamiento de Siero
X-ORIGINAL-URL:https://www.ayto-siero.es
X-WR-CALDESC:Eventos para Ayuntamiento de Siero
REFRESH-INTERVAL;VALUE=DURATION:PT1H
X-Robots-Tag:noindex
X-PUBLISHED-TTL:PT1H
BEGIN:VTIMEZONE
TZID:Europe/Madrid
BEGIN:DAYLIGHT
TZOFFSETFROM:+0100
TZOFFSETTO:+0200
TZNAME:CEST
DTSTART:20250330T010000
END:DAYLIGHT
BEGIN:STANDARD
TZOFFSETFROM:+0200
TZOFFSETTO:+0100
TZNAME:CET
DTSTART:20251026T010000
END:STANDARD
BEGIN:DAYLIGHT
TZOFFSETFROM:+0100
TZOFFSETTO:+0200
TZNAME:CEST
DTSTART:20260329T010000
END:DAYLIGHT
BEGIN:STANDARD
TZOFFSETFROM:+0200
TZOFFSETTO:+0100
TZNAME:CET
DTSTART:20261025T010000
END:STANDARD
BEGIN:DAYLIGHT
TZOFFSETFROM:+0100
TZOFFSETTO:+0200
TZNAME:CEST
DTSTART:20270328T010000
END:DAYLIGHT
BEGIN:STANDARD
TZOFFSETFROM:+0200
TZOFFSETTO:+0100
TZNAME:CET
DTSTART:20271031T010000
END:STANDARD
END:VTIMEZONE
BEGIN:VEVENT
DTSTART;TZID=Europe/Madrid:20260425T133000
DTEND;TZID=Europe/Madrid:20260425T143000
DTSTAMP:20260423T071428
CREATED:20260422T170839Z
LAST-MODIFIED:20260422T170839Z
UID:33316-1777123800-1777127400@www.ayto-siero.es
SUMMARY:La Banda de Música "Tomás Bretón" ofrecerá un concierto en La Pola
DESCRIPTION:La agrupación musical salmantina ofrecerá una selección de su repertorio el sábado 25 de abril\, a las 13.30 horas\, en el quiosco de la música del Parque Alfonso X «El Sabio»\n———————————————- \nLa Banda “Tomás Bretón”\, creó sus señas de identidad fundacionales en el año 2012\, bajo los auspicios de la Asociación “Amigos de la Música”. Está formada por un grupo de personas que comparten la música como afición\, como pasión e incluso como profesión. La música como lenguaje de expresión\, de comunicación y de encuentro.\nArmonía\, intensidad\, alteraciones\, melodía\, afinación\, DaCapo\, compás\, contratiempo\, escala\, glisando\, trino\, corchea…. en la suma de las diferentes cuerdas instrumentales y con la orientación del director de la banda\, son algunos de los conceptos que manejan en su quehacer grupal. \nEn la actualidad está dirigida por Emilio González Hernández.
URL:https://www.ayto-siero.es/eventos/la-banda-de-musica-tomas-breton-ofrecera-un-concierto-en-la-pola/
LOCATION:Parque Alfonso X «El Sabio»\, Parque Alfonso X "El Sabio"\, La Pola SiERO\, Asturias\, 33510\, España
CATEGORIES:Agenda de Cultura
ATTACH;FMTTYPE=image/jpeg:https://www.ayto-siero.es/wp-content/uploads/2026/04/Banda-Tomas-Breton-25-04-e1776877651851.jpg
ORGANIZER;CN="Fundaci%C3%B3n Municipal de Cultura de Siero":MAILTO:fmc@ayto-siero.es
END:VEVENT
END:VCALENDAR