BEGIN:VCALENDAR
VERSION:2.0
PRODID:-//Ayuntamiento de Siero - ECPv6.15.20//NONSGML v1.0//EN
CALSCALE:GREGORIAN
METHOD:PUBLISH
X-WR-CALNAME:Ayuntamiento de Siero
X-ORIGINAL-URL:https://www.ayto-siero.es
X-WR-CALDESC:Eventos para Ayuntamiento de Siero
REFRESH-INTERVAL;VALUE=DURATION:PT1H
X-Robots-Tag:noindex
X-PUBLISHED-TTL:PT1H
BEGIN:VTIMEZONE
TZID:Europe/Madrid
BEGIN:DAYLIGHT
TZOFFSETFROM:+0100
TZOFFSETTO:+0200
TZNAME:CEST
DTSTART:20230326T010000
END:DAYLIGHT
BEGIN:STANDARD
TZOFFSETFROM:+0200
TZOFFSETTO:+0100
TZNAME:CET
DTSTART:20231029T010000
END:STANDARD
BEGIN:DAYLIGHT
TZOFFSETFROM:+0100
TZOFFSETTO:+0200
TZNAME:CEST
DTSTART:20240331T010000
END:DAYLIGHT
BEGIN:STANDARD
TZOFFSETFROM:+0200
TZOFFSETTO:+0100
TZNAME:CET
DTSTART:20241027T010000
END:STANDARD
BEGIN:DAYLIGHT
TZOFFSETFROM:+0100
TZOFFSETTO:+0200
TZNAME:CEST
DTSTART:20250330T010000
END:DAYLIGHT
BEGIN:STANDARD
TZOFFSETFROM:+0200
TZOFFSETTO:+0100
TZNAME:CET
DTSTART:20251026T010000
END:STANDARD
END:VTIMEZONE
BEGIN:VEVENT
DTSTART;VALUE=DATE:20241001
DTEND;VALUE=DATE:20241101
DTSTAMP:20260420T102813
CREATED:20240927T122726Z
LAST-MODIFIED:20240927T122726Z
UID:21396-1727740800-1730419199@www.ayto-siero.es
SUMMARY:Agenda del Centro Polivalente Integrado de Lugones de octubre de 2024
DESCRIPTION:Puede descargar el programa mensual consultando el siguiente documento: \n\n    \n    \n            \n            \n        \n    \n\n    \n                        Agenda mensual CPI Octubre 2024\n        \n                    Tamaño del archivo: 580.49 KB\n                    Created: 27-09-2024\n                    Updated: 27-09-2024\n                    Vistas: 683\n        \n    \n    \n                                \n                    \n                    Descargar\n                \n                    \n                        \n                        Vista previa\n                    \n    \n\n\n 
URL:https://www.ayto-siero.es/eventos/agenda-cpi-lugones-octubre-2024/
LOCATION:Centro Polivalente Integrado de Lugones\, C/ Leopoldo Lugones\, 31\, Lugones\, Asturias\, 33420
CATEGORIES:Agenda de Cultura
ATTACH;FMTTYPE=image/jpeg:https://www.ayto-siero.es/wp-content/uploads/2023/11/CPI-vector-jpg.webp
ORGANIZER;CN="Fundaci%C3%B3n Municipal de Cultura de Siero":MAILTO:fmc@ayto-siero.es
END:VEVENT
END:VCALENDAR